BEGIN:VCALENDAR
VERSION:2.0
PRODID:-//Járműipari Kutatóközpont - ECPv5.16.4//NONSGML v1.0//EN
CALSCALE:GREGORIAN
METHOD:PUBLISH
X-WR-CALNAME:Járműipari Kutatóközpont
X-ORIGINAL-URL:https://jkk-web.sze.hu
X-WR-CALDESC:Events for Járműipari Kutatóközpont
REFRESH-INTERVAL;VALUE=DURATION:PT1H
X-Robots-Tag:noindex
X-PUBLISHED-TTL:PT1H
BEGIN:VTIMEZONE
TZID:Europe/Budapest
BEGIN:DAYLIGHT
TZOFFSETFROM:+0100
TZOFFSETTO:+0200
TZNAME:CEST
DTSTART:20240331T010000
END:DAYLIGHT
BEGIN:STANDARD
TZOFFSETFROM:+0200
TZOFFSETTO:+0100
TZNAME:CET
DTSTART:20241027T010000
END:STANDARD
END:VTIMEZONE
BEGIN:VEVENT
DTSTART;VALUE=DATE:20241014
DTEND;VALUE=DATE:20241017
DTSTAMP:20260423T005621
CREATED:20240306T103536Z
LAST-MODIFIED:20240306T103745Z
UID:5925-1728864000-1729123199@jkk-web.sze.hu
SUMMARY:Sustainable Mobility and Transportation Symposium 2024
DESCRIPTION:We are delighted to invite researchers\, scholars\, professionals\, and enthusiasts to participate in the 1st Sustainable Mobility and Transportation Symposium\, an interdisciplinary scientific conference organized by the Audi Hungaria Faculty of Automotive Engineering and the Vehicle Industry Reserach Center of Széchenyi István University. The conference is dedicated to exploring the latest advancements and innovations in the field of automotive technology and transportation\, and aims to bring together experts from various domains to foster collaboration\, share insights\, and shape the future of mobility. The symposium is scheduled to take place from October 14th to 16th 2024\, in Győr\, Hungary. \n\n\nWe are pleased to announce that selected papers will be forwarded to established\, ranked journals for consideration\, offering an opportunity for extended visibility and impact within the academic community. \nJoin us in collectively shaping the future of sustainable automotive technologies at this dynamic and collaborative conference. Together\, let us drive innovation and progress in the dynamic world of mobility. \n  \n\nhttps://smtsymposium.sze.hu/home
URL:https://jkk-web.sze.hu/esemeny/sustainable-mobility-and-transportation-symposium-2024/
LOCATION:Széchenyi István Egyetem\, Egyetem tér 1.\, Győr\, Győr-Moson-Sopron\, 9028\, Magyarország
CATEGORIES:Szakmai rendezvények
END:VEVENT
END:VCALENDAR