BEGIN:VCALENDAR
VERSION:2.0
PRODID:-//Járműipari Kutatóközpont - ECPv5.16.4//NONSGML v1.0//EN
CALSCALE:GREGORIAN
METHOD:PUBLISH
X-WR-CALNAME:Járműipari Kutatóközpont
X-ORIGINAL-URL:https://jkk-web.sze.hu
X-WR-CALDESC:Events for Járműipari Kutatóközpont
REFRESH-INTERVAL;VALUE=DURATION:PT1H
X-Robots-Tag:noindex
X-PUBLISHED-TTL:PT1H
BEGIN:VTIMEZONE
TZID:Europe/Budapest
BEGIN:DAYLIGHT
TZOFFSETFROM:+0100
TZOFFSETTO:+0200
TZNAME:CEST
DTSTART:20240331T010000
END:DAYLIGHT
BEGIN:STANDARD
TZOFFSETFROM:+0200
TZOFFSETTO:+0100
TZNAME:CET
DTSTART:20241027T010000
END:STANDARD
END:VTIMEZONE
BEGIN:VEVENT
DTSTART;VALUE=DATE:20241023
DTEND;VALUE=DATE:20241024
DTSTAMP:20260422T124131
CREATED:20240306T103906Z
LAST-MODIFIED:20240306T103906Z
UID:5931-1729641600-1729727999@jkk-web.sze.hu
SUMMARY:Nemzeti Ünnep
DESCRIPTION:
URL:https://jkk-web.sze.hu/esemeny/nemzeti-unnep-3/
LOCATION:Győr-Moson-Sopron
CATEGORIES:Szakmai rendezvények
END:VEVENT
END:VCALENDAR