BEGIN:VCALENDAR
VERSION:2.0
PRODID:-//Járműipari Kutatóközpont - ECPv5.16.4//NONSGML v1.0//EN
CALSCALE:GREGORIAN
METHOD:PUBLISH
X-ORIGINAL-URL:https://jkk-web.sze.hu
X-WR-CALDESC:Events for Járműipari Kutatóközpont
REFRESH-INTERVAL;VALUE=DURATION:PT1H
X-Robots-Tag:noindex
X-PUBLISHED-TTL:PT1H
BEGIN:VTIMEZONE
TZID:Europe/Budapest
BEGIN:DAYLIGHT
TZOFFSETFROM:+0100
TZOFFSETTO:+0200
TZNAME:CEST
DTSTART:20240331T010000
END:DAYLIGHT
BEGIN:STANDARD
TZOFFSETFROM:+0200
TZOFFSETTO:+0100
TZNAME:CET
DTSTART:20241027T010000
END:STANDARD
END:VTIMEZONE
BEGIN:VEVENT
DTSTART;VALUE=DATE:20241104
DTEND;VALUE=DATE:20241106
DTSTAMP:20260421T160236
CREATED:20240906T124918Z
LAST-MODIFIED:20250228T120610Z
UID:6366-1730678400-1730851199@jkk-web.sze.hu
SUMMARY:Közúti Vasúti Járművek Tanszék és a Járműipari Kutatóközpont Konferencia
DESCRIPTION:2024 őszi konferencia tanulmánykötet_ARNL \n  \nA győri Széchenyi István Egyetem Közúti és Vasúti Járművek Tanszéke és a Járműipari Kutató Központ 2024. november 04-05. között konferenciát szervez melynek idei témája: \nMobilitás és környezet – Jövőformáló járműipari kutatások \n  \nIdőpont: 2024. november 04-05. \nHelyszín: Széchenyi István Egyetem\, Menedzsment Campus (9026 Győr\, Egyetem tér 1.) \n  \nA programterv megtekinthető az alábbi linken: Programterv_2024. november 04-05_Mobilitás és környezet című konferencia. \n  \n 
URL:https://jkk-web.sze.hu/esemeny/a-kozuti-vasuti-jarmuvek-tanszek-es-a-jarmuipari-kutatokozpont-altal-szervezett-felsooktatasi-tarsadalmi-es-gazdasagi-egyuttmukodesek-konferencia-mobilitas-es-kornyezet-jovoformalo-jarmuipari-kutata/
LOCATION:Széchenyi István Egyetem\, Egyetem tér 1.\, Győr\, Győr-Moson-Sopron\, 9028\, Magyarország
CATEGORIES:Szakmai rendezvények
ORGANIZER;CN="J%C3%A1rm%C5%B1ipari%20Kutat%C3%B3k%C3%B6zpont":MAILTO:jkk@sze.hu
END:VEVENT
END:VCALENDAR