BEGIN:VCALENDAR
VERSION:2.0
PRODID:-//Járműipari Kutatóközpont - ECPv5.16.4//NONSGML v1.0//EN
CALSCALE:GREGORIAN
METHOD:PUBLISH
X-WR-CALNAME:Járműipari Kutatóközpont
X-ORIGINAL-URL:https://jkk-web.sze.hu
X-WR-CALDESC:Events for Járműipari Kutatóközpont
REFRESH-INTERVAL;VALUE=DURATION:PT1H
X-Robots-Tag:noindex
X-PUBLISHED-TTL:PT1H
BEGIN:VTIMEZONE
TZID:Europe/Budapest
BEGIN:DAYLIGHT
TZOFFSETFROM:+0100
TZOFFSETTO:+0200
TZNAME:CEST
DTSTART:20240331T010000
END:DAYLIGHT
BEGIN:STANDARD
TZOFFSETFROM:+0200
TZOFFSETTO:+0100
TZNAME:CET
DTSTART:20241027T010000
END:STANDARD
END:VTIMEZONE
BEGIN:VEVENT
DTSTART;VALUE=DATE:20241126
DTEND;VALUE=DATE:20241127
DTSTAMP:20260420T043310
CREATED:20240906T124456Z
LAST-MODIFIED:20240906T124456Z
UID:6364-1732579200-1732665599@jkk-web.sze.hu
SUMMARY:Egyetemi Tudományos és Művészeti Diákköri Konferencia és Tehetségnap
DESCRIPTION:
URL:https://jkk-web.sze.hu/esemeny/egyetemi-tudomanyos-es-muveszeti-diakkori-konferencia-es-tehetsegnap/
LOCATION:Széchenyi István Egyetem\, Egyetem tér 1.\, Győr\, Győr-Moson-Sopron\, 9028\, Magyarország
CATEGORIES:Szakmai rendezvények
END:VEVENT
END:VCALENDAR