BEGIN:VCALENDAR
VERSION:2.0
PRODID:-//Járműipari Kutatóközpont - ECPv5.16.4//NONSGML v1.0//EN
CALSCALE:GREGORIAN
METHOD:PUBLISH
X-WR-CALNAME:Járműipari Kutatóközpont
X-ORIGINAL-URL:https://jkk-web.sze.hu
X-WR-CALDESC:Events for Járműipari Kutatóközpont
REFRESH-INTERVAL;VALUE=DURATION:PT1H
X-Robots-Tag:noindex
X-PUBLISHED-TTL:PT1H
BEGIN:VTIMEZONE
TZID:Europe/Budapest
BEGIN:DAYLIGHT
TZOFFSETFROM:+0100
TZOFFSETTO:+0200
TZNAME:CEST
DTSTART:20240331T010000
END:DAYLIGHT
BEGIN:STANDARD
TZOFFSETFROM:+0200
TZOFFSETTO:+0100
TZNAME:CET
DTSTART:20241027T010000
END:STANDARD
END:VTIMEZONE
BEGIN:VEVENT
DTSTART;TZID=Europe/Budapest:20241203T100000
DTEND;TZID=Europe/Budapest:20241203T130000
DTSTAMP:20260419T175144
CREATED:20241205T074119Z
LAST-MODIFIED:20241205T074119Z
UID:6912-1733220000-1733230800@jkk-web.sze.hu
SUMMARY:ARNL JKK Akadémia - Dr. Lukács Pál Zoltán és Dr. Varga Zoltán
DESCRIPTION:A Széchenyi István Egyetem Járműipari Kutatóközpontja az Autonóm Rendszerek Nemzeti Laboratórium az RRF-2.3.1-21-2022-00002 projekt keretében a JKK Akadémia elnevezéssel szakmai rendezvénysorozatot kívánunk szervezni\, melynek fő témaköre az autonóm járművek és az autonóm rendszerek. Az egyes kutatói teamek számára a különböző akadémiai\, az egyes szakterületek képviselői\, illetve ipari előadók bevonásával lehetőséget teremtünk a hazai és nemzetközi kutatási rendszerekbe történő bekapcsolódásra és kompetenciafejlesztésre. \n  \nIDŐPONT: 2024. december 03. (kedd) \nHELYSZÍN: Járműipari Kutatóközpont- IS.208/I  (Workshop terem) \n  \nPROGRAM: \n10:00–11:00 Dr. Lukács Pál Zoltán “Fenntartható gépjárműgyártás a XXI. században az autóipari kihívások korában” című előadása \n11:00–11:30 Kérdések megválaszolása \n11:30–12:30 Dr. Varga Zoltán “Miért teheti fenntarthatóvá a közlekedést az önvezetés?” című előadása \n12:30–13:00 Kérdések megválaszolása \n  \nReméljük\, hogy vendégeink között üdvözölhetjük az eseményen!
URL:https://jkk-web.sze.hu/esemeny/arnl-jkk-akademia-dr-lukacs-pal-zoltan-es-dr-varga-zoltan/
LOCATION:Széchenyi István Egyetem\, Egyetem tér 1.\, Győr\, Győr-Moson-Sopron\, 9028\, Magyarország
CATEGORIES:JKK Akadémia
ORGANIZER;CN="J%C3%A1rm%C5%B1ipari%20Kutat%C3%B3k%C3%B6zpont":MAILTO:jkk@sze.hu
END:VEVENT
END:VCALENDAR